BEGIN:VCALENDAR
VERSION:2.0
PRODID:-//Warner University - ECPv6.15.18//NONSGML v1.0//EN
CALSCALE:GREGORIAN
METHOD:PUBLISH
X-WR-CALNAME:Warner University
X-ORIGINAL-URL:https://warner.edu
X-WR-CALDESC:Events for Warner University
REFRESH-INTERVAL;VALUE=DURATION:PT1H
X-Robots-Tag:noindex
X-PUBLISHED-TTL:PT1H
BEGIN:VTIMEZONE
TZID:America/New_York
BEGIN:DAYLIGHT
TZOFFSETFROM:-0500
TZOFFSETTO:-0400
TZNAME:EDT
DTSTART:20250309T070000
END:DAYLIGHT
BEGIN:STANDARD
TZOFFSETFROM:-0400
TZOFFSETTO:-0500
TZNAME:EST
DTSTART:20251102T060000
END:STANDARD
BEGIN:DAYLIGHT
TZOFFSETFROM:-0500
TZOFFSETTO:-0400
TZNAME:EDT
DTSTART:20260308T070000
END:DAYLIGHT
BEGIN:STANDARD
TZOFFSETFROM:-0400
TZOFFSETTO:-0500
TZNAME:EST
DTSTART:20261101T060000
END:STANDARD
BEGIN:DAYLIGHT
TZOFFSETFROM:-0500
TZOFFSETTO:-0400
TZNAME:EDT
DTSTART:20270314T070000
END:DAYLIGHT
BEGIN:STANDARD
TZOFFSETFROM:-0400
TZOFFSETTO:-0500
TZNAME:EST
DTSTART:20271107T060000
END:STANDARD
END:VTIMEZONE
BEGIN:VEVENT
DTSTART;TZID=America/New_York:20260422T100500
DTEND;TZID=America/New_York:20260422T110000
DTSTAMP:20260422T111614
CREATED:20260106T201935Z
LAST-MODIFIED:20260106T201935Z
UID:239410-1776852300-1776855600@warner.edu
SUMMARY:Awards Chapel Spring 26
DESCRIPTION:Join us in the CMC at 10:05 for a special awards chapel celebrating academic achievements from the 2025-2026 school year.
URL:https://warner.edu/event/awards-chapel-spring-26/
LOCATION:CMC
CATEGORIES:Chapel
END:VEVENT
BEGIN:VEVENT
DTSTART;TZID=America/New_York:20260423T160000
DTEND;TZID=America/New_York:20260423T180000
DTSTAMP:20260422T111614
CREATED:20251126T233833Z
LAST-MODIFIED:20260319T033937Z
UID:238995-1776960000-1776967200@warner.edu
SUMMARY:Softball vs University of Fort Lauderdale
DESCRIPTION:Softball vs University of Fort Lauderdale\nTV: UEN\nStreaming Video: https://urbanedgenetwork.net/?school=sun-conference\nTickets: https://warnerroyals.com/tickets
URL:https://warner.edu/event/softball-vs-university-of-fort-lauderdale/
LOCATION:Lake Wales\, FL\, Daly Field
END:VEVENT
BEGIN:VEVENT
DTSTART;TZID=America/New_York:20260423T180000
DTEND;TZID=America/New_York:20260423T200000
DTSTAMP:20260422T111614
CREATED:20251126T233833Z
LAST-MODIFIED:20260319T033937Z
UID:238996-1776967200-1776974400@warner.edu
SUMMARY:Softball vs University of Fort Lauderdale
DESCRIPTION:Softball vs University of Fort Lauderdale\nTV: UEN\nStreaming Video: https://urbanedgenetwork.net/?school=sun-conference\nTickets: https://warnerroyals.com/tickets
URL:https://warner.edu/event/softball-vs-university-of-fort-lauderdale-2/
LOCATION:Lake Wales\, FL\, Daly Field
END:VEVENT
BEGIN:VEVENT
DTSTART;TZID=America/New_York:20260423T180000
DTEND;TZID=America/New_York:20260423T210000
DTSTAMP:20260422T111614
CREATED:20251112T225130Z
LAST-MODIFIED:20260319T033937Z
UID:238782-1776967200-1776978000@warner.edu
SUMMARY:Baseball vs Webber International University
DESCRIPTION:Baseball vs Webber International University\nTV: UEN\nStreaming Video: https://urbanedgenetwork.net/?school=sun-conference\nTickets: https://warnerroyals.com/tickets
URL:https://warner.edu/event/baseball-vs-webber-international-university/
LOCATION:Lake Wales\, FL
END:VEVENT
BEGIN:VEVENT
DTSTART;VALUE=DATE:20260423
DTEND;VALUE=DATE:20260425
DTSTAMP:20260422T111614
CREATED:20260314T033937Z
LAST-MODIFIED:20260319T033937Z
UID:240064-1776974400-1777060799@warner.edu
SUMMARY:Men's Track & Field vs The Sun Conference Outdoor Championships
DESCRIPTION:Men’s Track & Field vs The Sun Conference Outdoor Championships
URL:https://warner.edu/event/mens-track-field-vs-the-sun-conference-outdoor-championships/
END:VEVENT
BEGIN:VEVENT
DTSTART;TZID=America/New_York:20260424T150000
DTEND;TZID=America/New_York:20260424T180000
DTSTAMP:20260422T111614
CREATED:20251112T225130Z
LAST-MODIFIED:20260319T033937Z
UID:238783-1777042800-1777053600@warner.edu
SUMMARY:Baseball vs Webber International University
DESCRIPTION:Baseball vs Webber International University\nTV: UEN\nStreaming Video: https://urbanedgenetwork.net/?school=sun-conference\nTickets: https://warnerroyals.com/tickets
URL:https://warner.edu/event/baseball-vs-webber-international-university-2/
LOCATION:Lake Wales\, FL
END:VEVENT
BEGIN:VEVENT
DTSTART;TZID=America/New_York:20260424T180000
DTEND;TZID=America/New_York:20260424T210000
DTSTAMP:20260422T111614
CREATED:20251112T225130Z
LAST-MODIFIED:20260319T033937Z
UID:238784-1777053600-1777064400@warner.edu
SUMMARY:Baseball vs Webber International University
DESCRIPTION:Baseball vs Webber International University\nTV: UEN\nStreaming Video: https://urbanedgenetwork.net/?school=sun-conference\nTickets: https://warnerroyals.com/tickets
URL:https://warner.edu/event/baseball-vs-webber-international-university-3/
LOCATION:Lake Wales\, FL
END:VEVENT
BEGIN:VEVENT
DTSTART;TZID=America/New_York:20260425T130000
DTEND;TZID=America/New_York:20260425T160000
DTSTAMP:20260422T111614
CREATED:20251112T225130Z
LAST-MODIFIED:20260319T033937Z
UID:238785-1777122000-1777132800@warner.edu
SUMMARY:Baseball vs Webber International University
DESCRIPTION:Baseball vs Webber International University\nTV: UEN\nStreaming Video: https://urbanedgenetwork.net/?school=sun-conference\nTickets: https://warnerroyals.com/tickets
URL:https://warner.edu/event/baseball-vs-webber-international-university-4/
LOCATION:Lake Wales\, FL
END:VEVENT
BEGIN:VEVENT
DTSTART;TZID=America/New_York:20260425T160000
DTEND;TZID=America/New_York:20260425T190000
DTSTAMP:20260422T111614
CREATED:20251202T235335Z
LAST-MODIFIED:20260319T033937Z
UID:239088-1777132800-1777143600@warner.edu
SUMMARY:Women's Lacrosse at New College of Florida
DESCRIPTION:Women’s Lacrosse at New College of Florida\nTV: UEN\nStreaming Video: https://urbanedgenetwork.net/?school=sun-conference
URL:https://warner.edu/event/womens-lacrosse-at-new-college-of-florida/
LOCATION:Sarasota\, FL
END:VEVENT
BEGIN:VEVENT
DTSTART;TZID=America/New_York:20260426T210000
DTEND;TZID=America/New_York:20260426T220000
DTSTAMP:20260422T111614
CREATED:20260407T155903Z
LAST-MODIFIED:20260407T155903Z
UID:240145-1777237200-1777240800@warner.edu
SUMMARY:Late Night Breakfast
DESCRIPTION:
URL:https://warner.edu/event/late-night-breakfast-2/
END:VEVENT
BEGIN:VEVENT
DTSTART;VALUE=DATE:20260427
DTEND;VALUE=DATE:20260501
DTSTAMP:20260422T111614
CREATED:20250807T143538Z
LAST-MODIFIED:20250807T143538Z
UID:237755-1777248000-1777593599@warner.edu
SUMMARY:Final Exams Week Spring 2026
DESCRIPTION:
URL:https://warner.edu/event/final-exams-week-spring-2026/
END:VEVENT
END:VCALENDAR